Workbook

Sheet Hires
A1: Candidate ID | B1: Role | C1: Source | D1: Requisition approved | E1: Applied | F1: Offer accepted | G1: Time to hire (days) | H1: Time to fill (days) | I1: Time to hire (working days) | K1: Sample data only. Blue cells are inputs. Grey columns are formulas: copy them down for new rows.
A2: C001 | B2: Sales Executive | C2: Job portal | D2: 46174 | E2: 46181 | F2: 46197 | G2: =IF(OR(E2="",F2=""),"",F2-E2) -> 16 | H2: =IF(OR(D2="",F2=""),"",F2-D2) -> 23 | I2: =IF(OR(E2="",F2=""),"",NETWORKDAYS(E2,F2)) -> 13
A3: C002 | B3: Sales Executive | C3: Referral | D3: 46174 | E3: 46183 | F3: 46191 | G3: =IF(OR(E3="",F3=""),"",F3-E3) -> 8 | H3: =IF(OR(D3="",F3=""),"",F3-D3) -> 17 | I3: =IF(OR(E3="",F3=""),"",NETWORKDAYS(E3,F3)) -> 7
A4: C003 | B4: Relationship Manager | C4: LinkedIn | D4: 46178 | E4: 46188 | F4: 46220 | G4: =IF(OR(E4="",F4=""),"",F4-E4) -> 32 | H4: =IF(OR(D4="",F4=""),"",F4-D4) -> 42 | I4: =IF(OR(E4="",F4=""),"",NETWORKDAYS(E4,F4)) -> 25
A5: C004 | B5: MIS Analyst | C5: Job portal | D5: 46185 | E5: 46193 | F5: 46217 | G5: =IF(OR(E5="",F5=""),"",F5-E5) -> 24 | H5: =IF(OR(D5="",F5=""),"",F5-D5) -> 32 | I5: =IF(OR(E5="",F5=""),"",NETWORKDAYS(E5,F5)) -> 17
A6: C005 | B6: Operations Executive | C6: Consultant | D6: 46188 | E6: 46195 | F6: 46209 | G6: =IF(OR(E6="",F6=""),"",F6-E6) -> 14 | H6: =IF(OR(D6="",F6=""),"",F6-D6) -> 21 | I6: =IF(OR(E6="",F6=""),"",NETWORKDAYS(E6,F6)) -> 11
A7: C006 | B7: Relationship Manager | C7: Referral | D7: 46204 | E7: 46209 | F7: 46225 | G7: =IF(OR(E7="",F7=""),"",F7-E7) -> 16 | H7: =IF(OR(D7="",F7=""),"",F7-D7) -> 21 | I7: =IF(OR(E7="",F7=""),"",NETWORKDAYS(E7,F7)) -> 13
A8: C007 | B8: MIS Analyst | C8: LinkedIn | D8: 46211 | E8: 46223 | F8: 46259 | G8: =IF(OR(E8="",F8=""),"",F8-E8) -> 36 | H8: =IF(OR(D8="",F8=""),"",F8-D8) -> 48 | I8: =IF(OR(E8="",F8=""),"",NETWORKDAYS(E8,F8)) -> 27
A9: C008 | B9: Sales Executive | C9: Job portal | D9: 46218 | E9: 46225 | F9: 46246 | G9: =IF(OR(E9="",F9=""),"",F9-E9) -> 21 | H9: =IF(OR(D9="",F9=""),"",F9-D9) -> 28 | I9: =IF(OR(E9="",F9=""),"",NETWORKDAYS(E9,F9)) -> 16
A10: C009 | B10: Operations Executive | C10: Job portal | D10: 46237 | E10: 46244 | F10: 46262 | G10: =IF(OR(E10="",F10=""),"",F10-E10) -> 18 | H10: =IF(OR(D10="",F10=""),"",F10-D10) -> 25 | I10: =IF(OR(E10="",F10=""),"",NETWORKDAYS(E10,F10)) -> 15
A11: C010 | B11: Relationship Manager | C11: Consultant | D11: 46244 | E11: 46248 | F11: 46281 | G11: =IF(OR(E11="",F11=""),"",F11-E11) -> 33 | H11: =IF(OR(D11="",F11=""),"",F11-D11) -> 37 | I11: =IF(OR(E11="",F11=""),"",NETWORKDAYS(E11,F11)) -> 24
A12: C011 | B12: MIS Analyst | C12: Referral | D12: 46251 | E12: 46258 | F12: 46269 | G12: =IF(OR(E12="",F12=""),"",F12-E12) -> 11 | H12: =IF(OR(D12="",F12=""),"",F12-D12) -> 18 | I12: =IF(OR(E12="",F12=""),"",NETWORKDAYS(E12,F12)) -> 10
A13: C012 | B13: Sales Executive | C13: LinkedIn | D13: 46266 | E13: 46272 | F13: 46294 | G13: =IF(OR(E13="",F13=""),"",F13-E13) -> 22 | H13: =IF(OR(D13="",F13=""),"",F13-D13) -> 28 | I13: =IF(OR(E13="",F13=""),"",NETWORKDAYS(E13,F13)) -> 17

Sheet Summary
A1: Time to Hire Summary
A2: All figures are calendar days unless stated. Source: Hires sheet (dummy data).
A4: Hires counted | B4: Average time to hire | C4: Median time to hire | D4: Fastest hire | E4: Slowest hire | F4: Average time to fill
A5: =COUNT(Hires!$G$2:$G$200) -> 12 | B5: =AVERAGE(Hires!$G$2:$G$200) -> 20.916667 | C5: =MEDIAN(Hires!$G$2:$G$200) -> 19.5 | D5: =MIN(Hires!$G$2:$G$200) -> 8 | E5: =MAX(Hires!$G$2:$G$200) -> 36 | F5: =AVERAGE(Hires!$H$2:$H$200) -> 28.333333
A8: Role | B8: Hires | C8: Avg time to hire (days)
A9: Sales Executive | B9: =COUNTIF(Hires!$B$2:$B$200,$A9) -> 4 | C9: =IF(B9=0,"",AVERAGEIFS(Hires!$G$2:$G$200,Hires!$B$2:$B$200,$A9)) -> 16.75
A10: Relationship Manager | B10: =COUNTIF(Hires!$B$2:$B$200,$A10) -> 3 | C10: =IF(B10=0,"",AVERAGEIFS(Hires!$G$2:$G$200,Hires!$B$2:$B$200,$A10)) -> 27
A11: MIS Analyst | B11: =COUNTIF(Hires!$B$2:$B$200,$A11) -> 3 | C11: =IF(B11=0,"",AVERAGEIFS(Hires!$G$2:$G$200,Hires!$B$2:$B$200,$A11)) -> 23.666667
A12: Operations Executive | B12: =COUNTIF(Hires!$B$2:$B$200,$A12) -> 2 | C12: =IF(B12=0,"",AVERAGEIFS(Hires!$G$2:$G$200,Hires!$B$2:$B$200,$A12)) -> 16
A15: Source | B15: Hires | C15: Avg time to hire (days)
A16: Job portal | B16: =COUNTIF(Hires!$C$2:$C$200,$A16) -> 4 | C16: =IF(B16=0,"",AVERAGEIFS(Hires!$G$2:$G$200,Hires!$C$2:$C$200,$A16)) -> 19.75
A17: Referral | B17: =COUNTIF(Hires!$C$2:$C$200,$A17) -> 3 | C17: =IF(B17=0,"",AVERAGEIFS(Hires!$G$2:$G$200,Hires!$C$2:$C$200,$A17)) -> 11.666667
A18: LinkedIn | B18: =COUNTIF(Hires!$C$2:$C$200,$A18) -> 3 | C18: =IF(B18=0,"",AVERAGEIFS(Hires!$G$2:$G$200,Hires!$C$2:$C$200,$A18)) -> 30
A19: Consultant | B19: =COUNTIF(Hires!$C$2:$C$200,$A19) -> 2 | C19: =IF(B19=0,"",AVERAGEIFS(Hires!$G$2:$G$200,Hires!$C$2:$C$200,$A19)) -> 23.5
A21: Median is shown next to the average on purpose: one slow hire can pull the average up while the median stays steady.

Sheet How to use
A1: How to use this time to hire template
A3: 1. Paste your own records into the Hires sheet from row 2: one row per hired candidate, with real dates (not text).
A4: 2. Copy the three grey formula columns (G, H, I) down to the last row of your data.
A5: 3. Edit the role and source names in column A of the Summary sheet so they match your data exactly.
A6: 4. Read the Summary sheet: average, median, fastest, slowest, and averages by role and source.
A8: Assumptions and notes
A9: Time to hire = Offer accepted date minus Applied date (the day the candidate entered your pipeline).
A10: Time to fill = Offer accepted date minus Requisition approved date. Use the same start point for every role.
A11: Working days use NETWORKDAYS and exclude Saturdays and Sundays but not public holidays.
A12: All candidate rows are dummy values created for this template. They do not represent any real company.
A13: Built by Excel Keys (excelkeys.in). Free to use and adapt for your own reporting.
