Workbook

Sheet MIS Summary
A1: Monthly MIS Report: Regional Sales Performance
A2: Reporting month | B2: 46266 | D2: On track from | E2: 1 | F2: Watch from | G2: 0.85
A3: Yellow cells are inputs. Everything else is a formula. Amounts are in Rs lakh.
A5: Total target | B5: Total actual | C5: Achievement % | D5: Variance
A6: =SUMIFS(Data!$D$2:$D$37,Data!$A$2:$A$37,$B$2) -> 1146 | B6: =SUMIFS(Data!$E$2:$E$37,Data!$A$2:$A$37,$B$2) -> 1074 | C6: =IF(A6=0,0,B6/A6) -> 0.93717277 | D6: =B6-A6 -> -72
A8: Region | B8: Target | C8: Actual | D8: Achievement % | E8: Variance | F8: Status | G8: Rank
A9: North | B9: =SUMIFS(Data!$D$2:$D$37,Data!$B$2:$B$37,$A9,Data!$A$2:$A$37,$B$2) -> 270 | C9: =SUMIFS(Data!$E$2:$E$37,Data!$B$2:$B$37,$A9,Data!$A$2:$A$37,$B$2) -> 219 | D9: =IF(B9=0,0,C9/B9) -> 0.81111111 | E9: =C9-B9 -> -51 | F9: =IF(D9>=$E$2,"On track",IF(D9>=$G$2,"Watch","Behind")) -> Behind | G9: =RANK(D9,$D$9:$D$12) -> 4
A10: South | B10: =SUMIFS(Data!$D$2:$D$37,Data!$B$2:$B$37,$A10,Data!$A$2:$A$37,$B$2) -> 310 | C10: =SUMIFS(Data!$E$2:$E$37,Data!$B$2:$B$37,$A10,Data!$A$2:$A$37,$B$2) -> 287 | D10: =IF(B10=0,0,C10/B10) -> 0.92580645 | E10: =C10-B10 -> -23 | F10: =IF(D10>=$E$2,"On track",IF(D10>=$G$2,"Watch","Behind")) -> Watch | G10: =RANK(D10,$D$9:$D$12) -> 3
A11: East | B11: =SUMIFS(Data!$D$2:$D$37,Data!$B$2:$B$37,$A11,Data!$A$2:$A$37,$B$2) -> 216 | C11: =SUMIFS(Data!$E$2:$E$37,Data!$B$2:$B$37,$A11,Data!$A$2:$A$37,$B$2) -> 221 | D11: =IF(B11=0,0,C11/B11) -> 1.0231481 | E11: =C11-B11 -> 5 | F11: =IF(D11>=$E$2,"On track",IF(D11>=$G$2,"Watch","Behind")) -> On track | G11: =RANK(D11,$D$9:$D$12) -> 1
A12: West | B12: =SUMIFS(Data!$D$2:$D$37,Data!$B$2:$B$37,$A12,Data!$A$2:$A$37,$B$2) -> 350 | C12: =SUMIFS(Data!$E$2:$E$37,Data!$B$2:$B$37,$A12,Data!$A$2:$A$37,$B$2) -> 347 | D12: =IF(B12=0,0,C12/B12) -> 0.99142857 | E12: =C12-B12 -> -3 | F12: =IF(D12>=$E$2,"On track",IF(D12>=$G$2,"Watch","Behind")) -> Watch | G12: =RANK(D12,$D$9:$D$12) -> 2
A13: Total | B13: =SUM(B9:B12) -> 1146 | C13: =SUM(C9:C12) -> 1074 | D13: =IF(B13=0,0,C13/B13) -> 0.93717277 | E13: =C13-B13 -> -72 | F13: =IF(D13>=$E$2,"On track",IF(D13>=$G$2,"Watch","Behind")) -> Watch
A15: Product | B15: Target | C15: Actual | D15: Achievement % | E15: Variance | F15: Status
A16: Home Loan | B16: =SUMIFS(Data!$D$2:$D$37,Data!$C$2:$C$37,$A16,Data!$A$2:$A$37,$B$2) -> 551 | C16: =SUMIFS(Data!$E$2:$E$37,Data!$C$2:$C$37,$A16,Data!$A$2:$A$37,$B$2) -> 520 | D16: =IF(B16=0,0,C16/B16) -> 0.94373866 | E16: =C16-B16 -> -31 | F16: =IF(D16>=$E$2,"On track",IF(D16>=$G$2,"Watch","Behind")) -> Watch
A17: Personal Loan | B17: =SUMIFS(Data!$D$2:$D$37,Data!$C$2:$C$37,$A17,Data!$A$2:$A$37,$B$2) -> 366 | C17: =SUMIFS(Data!$E$2:$E$37,Data!$C$2:$C$37,$A17,Data!$A$2:$A$37,$B$2) -> 360 | D17: =IF(B17=0,0,C17/B17) -> 0.98360656 | E17: =C17-B17 -> -6 | F17: =IF(D17>=$E$2,"On track",IF(D17>=$G$2,"Watch","Behind")) -> Watch
A18: Insurance | B18: =SUMIFS(Data!$D$2:$D$37,Data!$C$2:$C$37,$A18,Data!$A$2:$A$37,$B$2) -> 229 | C18: =SUMIFS(Data!$E$2:$E$37,Data!$C$2:$C$37,$A18,Data!$A$2:$A$37,$B$2) -> 194 | D18: =IF(B18=0,0,C18/B18) -> 0.84716157 | E18: =C18-B18 -> -35 | F18: =IF(D18>=$E$2,"On track",IF(D18>=$G$2,"Watch","Behind")) -> Behind
A19: Total | B19: =SUM(B16:B18) -> 1146 | C19: =SUM(C16:C18) -> 1074 | D19: =IF(B19=0,0,C19/B19) -> 0.93717277 | E19: =C19-B19 -> -72 | F19: =IF(D19>=$E$2,"On track",IF(D19>=$G$2,"Watch","Behind")) -> Watch
A21: Month | B21: Target | C21: Actual | D21: Achievement % | E21: Variance
A22: =EDATE($B$2,-2) -> 46204 | B22: =SUMIFS(Data!$D$2:$D$37,Data!$A$2:$A$37,$A22) -> 1062 | C22: =SUMIFS(Data!$E$2:$E$37,Data!$A$2:$A$37,$A22) -> 1012 | D22: =IF(B22=0,0,C22/B22) -> 0.95291902 | E22: =C22-B22 -> -50
A23: =EDATE($B$2,-1) -> 46235 | B23: =SUMIFS(Data!$D$2:$D$37,Data!$A$2:$A$37,$A23) -> 1107 | C23: =SUMIFS(Data!$E$2:$E$37,Data!$A$2:$A$37,$A23) -> 998 | D23: =IF(B23=0,0,C23/B23) -> 0.90153568 | E23: =C23-B23 -> -109
A24: =EDATE($B$2,0) -> 46266 | B24: =SUMIFS(Data!$D$2:$D$37,Data!$A$2:$A$37,$A24) -> 1146 | C24: =SUMIFS(Data!$E$2:$E$37,Data!$A$2:$A$37,$A24) -> 1074 | D24: =IF(B24=0,0,C24/B24) -> 0.93717277 | E24: =C24-B24 -> -72

Sheet Data
A1: Month | B1: Region | C1: Product | D1: Target (Rs lakh) | E1: Actual (Rs lakh) | G1: Sample data only. Replace rows 2 onward with your own export. Keep one row per record, one header row and no totals.
A2: 46204 | B2: North | C2: Home Loan | D2: 120 | E2: 94
A3: 46204 | B3: North | C3: Personal Loan | D3: 80 | E3: 81
A4: 46204 | B4: North | C4: Insurance | D4: 50 | E4: 49
A5: 46204 | B5: South | C5: Home Loan | D5: 138 | E5: 151
A6: 46204 | B6: South | C6: Personal Loan | D6: 92 | E6: 78
A7: 46204 | B7: South | C7: Insurance | D7: 57 | E7: 48
A8: 46204 | B8: East | C8: Home Loan | D8: 96 | E8: 98
A9: 46204 | B9: East | C9: Personal Loan | D9: 64 | E9: 63
A10: 46204 | B10: East | C10: Insurance | D10: 40 | E10: 34
A11: 46204 | B11: West | C11: Home Loan | D11: 156 | E11: 156
A12: 46204 | B12: West | C12: Personal Loan | D12: 104 | E12: 93
A13: 46204 | B13: West | C13: Insurance | D13: 65 | E13: 67
... A37: 46266 | B37: West | C37: Insurance | D37: 70 | E37: 55

Sheet How to use
A1: How to use this MIS report template
A2: 1. Paste your own monthly export into the Data sheet, starting at row 2. Keep one row per record, one header row, real dates and numbers, and no total rows.
A3: 2. Add or rename regions and products in the MIS Summary sheet (column A). The formulas pick up the new names automatically.
A4: 3. Change the reporting month in cell B2 of the MIS Summary sheet. Enter the first day of the month.
A5: 4. Change the Status thresholds in cells E2 and G2 if your business uses different targets.
A6: 5. If your Data sheet grows beyond row 37, extend the ranges in the SUMIFS formulas or convert the data to an Excel Table.
A8: Assumptions and notes
A9: The numbers in the Data sheet are dummy values created for this template. They do not represent any real business.
A10: Amounts are shown in Rs lakh. Achievement % = Actual / Target. Variance = Actual - Target.
A11: Status: On track at or above the first threshold, Watch at or above the second, otherwise Behind.
A12: Built by Excel Keys (excelkeys.in). Free to use and adapt for your own reporting.
